BEGIN:VCALENDAR
VERSION:2.0
PRODID:-//Plone.org//NONSGML plone.app.event//EN
X-WR-TIMEZONE:Europe/Rome
BEGIN:VEVENT
SUMMARY:I° Forum-  Il quadro delle conoscenze
DTSTART;TZID=Europe/Rome;VALUE=DATE-TIME:20190410T093000
DTEND;TZID=Europe/Rome;VALUE=DATE-TIME:20190410T180000
DTSTAMP;VALUE=DATE-TIME:20260422T124808Z
UID:e4b0925113dc49f581ffe175d809e963@10.11.22.10:8081
CATEGORIES:pianificazione,urbanistica
CREATED;VALUE=DATE-TIME:20190405T091926Z
DESCRIPTION:Il quadro delle conoscenze -Progetto pilota Contratto di Fiume
  per la Fiumara Laverde dal titolo: “I PAESAGGI DELLA FIUMARA LAVERDE. L
 a riqualificazione partecipata di una valle” \nSala conferenze  Palazzo 
 Corrado Alvaro - Reggio Calabria
LAST-MODIFIED;VALUE=DATE-TIME:20190409T080636Z
LOCATION:Sala conferenze  Palazzo Corrado Alvaro - Reggio Calabria
URL:https://www2.cittametropolitana.rc.it/canali/territorio-pianificazione
 -e-urbanistica/contratti-di-fiume/contratti-di-fiume-la-verde/i-forum-il-q
 uadro-delle-conoscenze
END:VEVENT
BEGIN:VTIMEZONE
TZID:Europe/Rome
X-LIC-LOCATION:Europe/Rome
BEGIN:DAYLIGHT
DTSTART;VALUE=DATE-TIME:20190331T030000
TZNAME:CEST
TZOFFSETFROM:+0100
TZOFFSETTO:+0200
END:DAYLIGHT
END:VTIMEZONE
END:VCALENDAR
